BEGIN:VCALENDAR
VERSION:2.0
PRODID:-//Lucas Richman - ECPv6.0.2//NONSGML v1.0//EN
CALSCALE:GREGORIAN
METHOD:PUBLISH
X-WR-CALNAME:Lucas Richman
X-ORIGINAL-URL:https://lucasrichman.com
X-WR-CALDESC:Events for Lucas Richman
REFRESH-INTERVAL;VALUE=DURATION:PT1H
X-Robots-Tag:noindex
X-PUBLISHED-TTL:PT1H
BEGIN:VTIMEZONE
TZID:America/New_York
BEGIN:DAYLIGHT
TZOFFSETFROM:-0500
TZOFFSETTO:-0400
TZNAME:EDT
DTSTART:20220313T070000
END:DAYLIGHT
BEGIN:STANDARD
TZOFFSETFROM:-0400
TZOFFSETTO:-0500
TZNAME:EST
DTSTART:20221106T060000
END:STANDARD
END:VTIMEZONE
BEGIN:VEVENT
DTSTART;TZID=America/New_York:20221204T150000
DTEND;TZID=America/New_York:20221204T150000
DTSTAMP:20260420T134912
CREATED:20221029T212823Z
LAST-MODIFIED:20221029T212823Z
UID:19001-1670166000-1670166000@lucasrichman.com
SUMMARY:"Christmas Sing-Along"
DESCRIPTION:Wichita Symphony Orchestra\nChristmas Fantasies\nDaniel Hege\, conductor \nStart your musical adventure through the winter wonderland of Germany’s Black Forest with the lush orchestration of Humperdinck’s Hänsel and Gretel. Then\, take a snowy walk in the air with Howard Blake’s enchanting score for The Snowman and experience childhood imagination as the Oscar-nominated film rolls on the screen above the orchestra. \nIt’s the holidays\, and Tchaikovsky’s Nutcracker is heard everywhere. Hear a full orchestra perform Tchaikovsky’s lush\, beloved score as he intended. Act 2 is the Land of Sweets\, where the flowers waltz and the Sugar Plum Fairy dances. This is the music the world knows and loves. Make your holiday season complete with this concert for listeners of all ages.
URL:https://lucasrichman.com/event/christmas-sing-along-15/
LOCATION:Wichita Symphony Orchestra
CATEGORIES:Composer
ATTACH;FMTTYPE=image/png:https://lucasrichman.com/wp-content/uploads/2020/11/Christmas-Sing-Along-1.png
END:VEVENT
END:VCALENDAR