BEGIN:VCALENDAR
VERSION:2.0
PRODID:-//Lucas Richman - ECPv6.0.2//NONSGML v1.0//EN
CALSCALE:GREGORIAN
METHOD:PUBLISH
X-WR-CALNAME:Lucas Richman
X-ORIGINAL-URL:https://lucasrichman.com
X-WR-CALDESC:Events for Lucas Richman
REFRESH-INTERVAL;VALUE=DURATION:PT1H
X-Robots-Tag:noindex
X-PUBLISHED-TTL:PT1H
BEGIN:VTIMEZONE
TZID:America/New_York
BEGIN:DAYLIGHT
TZOFFSETFROM:-0500
TZOFFSETTO:-0400
TZNAME:EDT
DTSTART:20250309T070000
END:DAYLIGHT
BEGIN:STANDARD
TZOFFSETFROM:-0400
TZOFFSETTO:-0500
TZNAME:EST
DTSTART:20251102T060000
END:STANDARD
END:VTIMEZONE
BEGIN:VEVENT
DTSTART;TZID=America/New_York:20251220T143000
DTEND;TZID=America/New_York:20251220T170000
DTSTAMP:20260424T220711
CREATED:20251208T145719Z
LAST-MODIFIED:20251208T145719Z
UID:24418-1766241000-1766250000@lucasrichman.com
SUMMARY:Hanukkah Medley
DESCRIPTION:St. Petersburg Opera Company presents:\nHoliday Sparkle\nDecember 19\, 2025 – 7:30\nDecember 20\, 2025 – 7:30\nDecember 21\, 2025 – 2:00 \nMark Sforzini\, conductor \nGet ready to celebrate the most wonderful time of the year with a festive evening of music and merriment! Holiday Sparkle brings together dazzling vocalists and a 40-piece orchestra for a heartwarming celebration of the season. From classic to contemporary holiday favorites featuring performances from the Tampa City Ballet\, you’ll be swept away by the spirit of the season. An unforgettable evening for the entire family that captures the sparkle and warmth of this festive time of year.
URL:https://lucasrichman.com/event/hanukkah-medley-20/2025-12-20/
CATEGORIES:Composer
ATTACH;FMTTYPE=image/png:https://lucasrichman.com/wp-content/uploads/2020/11/Hanukkah-Medley-2.png
END:VEVENT
BEGIN:VEVENT
DTSTART;TZID=America/New_York:20251219T193000
DTEND;TZID=America/New_York:20251219T193000
DTSTAMP:20260424T220711
CREATED:20251208T145719Z
LAST-MODIFIED:20251208T145719Z
UID:24416-1766172600-1766172600@lucasrichman.com
SUMMARY:Hanukkah Medley
DESCRIPTION:St. Petersburg Opera Company presents:\nHoliday Sparkle\nDecember 19\, 2025 – 7:30\nDecember 20\, 2025 – 7:30\nDecember 21\, 2025 – 2:00 \nMark Sforzini\, conductor \nGet ready to celebrate the most wonderful time of the year with a festive evening of music and merriment! Holiday Sparkle brings together dazzling vocalists and a 40-piece orchestra for a heartwarming celebration of the season. From classic to contemporary holiday favorites featuring performances from the Tampa City Ballet\, you’ll be swept away by the spirit of the season. An unforgettable evening for the entire family that captures the sparkle and warmth of this festive time of year.
URL:https://lucasrichman.com/event/hanukkah-medley-20/
CATEGORIES:Composer
ATTACH;FMTTYPE=image/png:https://lucasrichman.com/wp-content/uploads/2020/11/Hanukkah-Medley-2.png
END:VEVENT
END:VCALENDAR