BEGIN:VCALENDAR
VERSION:2.0
PRODID:-//Lucas Richman - ECPv6.0.2//NONSGML v1.0//EN
CALSCALE:GREGORIAN
METHOD:PUBLISH
X-WR-CALNAME:Lucas Richman
X-ORIGINAL-URL:https://lucasrichman.com
X-WR-CALDESC:Events for Lucas Richman
REFRESH-INTERVAL;VALUE=DURATION:PT1H
X-Robots-Tag:noindex
X-PUBLISHED-TTL:PT1H
BEGIN:VTIMEZONE
TZID:America/New_York
BEGIN:DAYLIGHT
TZOFFSETFROM:-0500
TZOFFSETTO:-0400
TZNAME:EDT
DTSTART:20230312T070000
END:DAYLIGHT
BEGIN:STANDARD
TZOFFSETFROM:-0400
TZOFFSETTO:-0500
TZNAME:EST
DTSTART:20231105T060000
END:STANDARD
END:VTIMEZONE
BEGIN:VEVENT
DTSTART;TZID=America/New_York:20231218T193000
DTEND;TZID=America/New_York:20231218T193000
DTSTAMP:20260421T201016
CREATED:20231109T191444Z
LAST-MODIFIED:20231109T191444Z
UID:20881-1702927800-1702927800@lucasrichman.com
SUMMARY:Hanukkah Festival Overture
DESCRIPTION:Huntington Symphony Orchestra\npresents \nHome For The Holidays\nKimo Furumoto\, conductor \nJoin the HSO for our “Home for the Holidays” concert: A heartwarming collection of your favorite holiday musical stories all tied up in a bow as a gift to the community. You won’t want to miss it! Featuring the HSO Symphony Chorus\, several local children’s choruses\, ballet companies\, and special guest vocalists Mark McVey and Christy Tar McVey.
URL:https://lucasrichman.com/event/hanukkah-festival-overture-101/
CATEGORIES:Composer
ATTACH;FMTTYPE=image/png:https://lucasrichman.com/wp-content/uploads/2020/11/Hanukkah-Festival-Overture-Image.png
END:VEVENT
END:VCALENDAR