BEGIN:VCALENDAR
VERSION:2.0
PRODID:-//Lucas Richman - ECPv6.0.2//NONSGML v1.0//EN
CALSCALE:GREGORIAN
METHOD:PUBLISH
X-WR-CALNAME:Lucas Richman
X-ORIGINAL-URL:https://lucasrichman.com
X-WR-CALDESC:Events for Lucas Richman
REFRESH-INTERVAL;VALUE=DURATION:PT1H
X-Robots-Tag:noindex
X-PUBLISHED-TTL:PT1H
BEGIN:VTIMEZONE
TZID:America/New_York
BEGIN:DAYLIGHT
TZOFFSETFROM:-0500
TZOFFSETTO:-0400
TZNAME:EDT
DTSTART:20250309T070000
END:DAYLIGHT
BEGIN:STANDARD
TZOFFSETFROM:-0400
TZOFFSETTO:-0500
TZNAME:EST
DTSTART:20251102T060000
END:STANDARD
END:VTIMEZONE
BEGIN:VEVENT
DTSTART;TZID=America/New_York:20251213T190000
DTEND;TZID=America/New_York:20251213T190000
DTSTAMP:20260424T220109
CREATED:20250708T170305Z
LAST-MODIFIED:20251024T144218Z
UID:23410-1765652400-1765652400@lucasrichman.com
SUMMARY:Hanukkah Festival Overture
DESCRIPTION:Civic Orchestra of Tucson presents: \nHoliday Concerts 2025\nSaturday\, December 13\, 2025 at 7:00 pm\n\nDr. Keun Oh\, conductor\n\n\nClick here for information about Hanukkah Festival Overture
URL:https://lucasrichman.com/event/hanukkah-festival-overture-116/
CATEGORIES:Composer
ATTACH;FMTTYPE=image/png:https://lucasrichman.com/wp-content/uploads/2020/11/Hanukkah-Festival-Overture-Image.png
END:VEVENT
END:VCALENDAR