BEGIN:VCALENDAR
VERSION:2.0
PRODID:-//Lucas Richman - ECPv6.0.2//NONSGML v1.0//EN
CALSCALE:GREGORIAN
METHOD:PUBLISH
X-WR-CALNAME:Lucas Richman
X-ORIGINAL-URL:https://lucasrichman.com
X-WR-CALDESC:Events for Lucas Richman
REFRESH-INTERVAL;VALUE=DURATION:PT1H
X-Robots-Tag:noindex
X-PUBLISHED-TTL:PT1H
BEGIN:VTIMEZONE
TZID:America/New_York
BEGIN:DAYLIGHT
TZOFFSETFROM:-0500
TZOFFSETTO:-0400
TZNAME:EDT
DTSTART:20260308T070000
END:DAYLIGHT
BEGIN:STANDARD
TZOFFSETFROM:-0400
TZOFFSETTO:-0500
TZNAME:EST
DTSTART:20261101T060000
END:STANDARD
END:VTIMEZONE
BEGIN:VEVENT
DTSTART;TZID=America/New_York:20260207T193000
DTEND;TZID=America/New_York:20260207T193000
DTSTAMP:20260424T185826
CREATED:20250914T140704Z
LAST-MODIFIED:20251024T143559Z
UID:23790-1770492600-1770492600@lucasrichman.com
SUMMARY:Concerto for Violin: Paths to Dignity
DESCRIPTION:Bismarck-Mandan Symphony Orchestra presents: \nPaths to Dignity\n\nFebruary 7\, 2026 \nThe unforgettable North Dakota premiere of Lucas Richman’s Paths to Dignity Violin Concerto will stir your spirit and your mind.  A week of outreach and education involving our unhoused and marginalized\, will culminate in this powerful performance. \n\n\nLucas Richman’s Paths to Dignity Violin Concerto \nThe concerto was specifically conceived to address and stimulate discussion about the connections between homelessness and mental health\, highlighting the role of arts in restoring dignity to displaced individuals.  The four-movement structure is unified by a seven-note musical motif (D-B-G-G-B-F-D) representing the word “DIGNITY\,” woven throughout the composition in various forms. Beyond being a concert piece\, the concerto and associated Paths to Dignity Project aim to foster connections between cultural organizations and homeless advocacy groups. It intends to serve as a catalyst for meaningful discussion and action\, facilitating assistance and aspiring towards the reintegration of the unsheltered into society.\n\nClick here for information about Concerto for Violin: Paths to Dignity
URL:https://lucasrichman.com/event/concerto-for-violin-paths-to-dignity-6/
CATEGORIES:Composer
ATTACH;FMTTYPE=image/png:https://lucasrichman.com/wp-content/uploads/2023/07/Paths-to-Dignity-Website-Calendar-1.png
END:VEVENT
END:VCALENDAR