BEGIN:VCALENDAR
VERSION:2.0
PRODID:-//Lucas Richman - ECPv6.0.2//NONSGML v1.0//EN
CALSCALE:GREGORIAN
METHOD:PUBLISH
X-WR-CALNAME:Lucas Richman
X-ORIGINAL-URL:https://lucasrichman.com
X-WR-CALDESC:Events for Lucas Richman
REFRESH-INTERVAL;VALUE=DURATION:PT1H
X-Robots-Tag:noindex
X-PUBLISHED-TTL:PT1H
BEGIN:VTIMEZONE
TZID:America/New_York
BEGIN:DAYLIGHT
TZOFFSETFROM:-0500
TZOFFSETTO:-0400
TZNAME:EDT
DTSTART:20250309T070000
END:DAYLIGHT
BEGIN:STANDARD
TZOFFSETFROM:-0400
TZOFFSETTO:-0500
TZNAME:EST
DTSTART:20251102T060000
END:STANDARD
END:VTIMEZONE
BEGIN:VEVENT
DTSTART;TZID=America/New_York:20251116T150000
DTEND;TZID=America/New_York:20251116T170000
DTSTAMP:20260424T232638
CREATED:20250914T140055Z
LAST-MODIFIED:20251024T150003Z
UID:23787-1763305200-1763312400@lucasrichman.com
SUMMARY:Concerto for Violin: Paths to Dignity
DESCRIPTION:Bemidji Symphony Orchestra presents: \nPathway to Dignity\nDr. Beverly Everett\, conductor\nMitchell Newman\, violinist \nLucas Richman’s “Concerto for Violin: Paths to Dignity” featuring Mitchell Newman\, violinist. The springboard for community engagement activities that forge relationships between musical institutions and homeless advocacy organizations. \n  \nClick here for information about Concerto for Violin: Paths to Dignity
URL:https://lucasrichman.com/event/concerto-for-violin-paths-to-dignity-5/
CATEGORIES:Composer
ATTACH;FMTTYPE=image/png:https://lucasrichman.com/wp-content/uploads/2023/07/Paths-to-Dignity-Website-Calendar-1.png
END:VEVENT
END:VCALENDAR