BEGIN:VCALENDAR
VERSION:2.0
PRODID:-//Lucas Richman - ECPv6.0.2//NONSGML v1.0//EN
CALSCALE:GREGORIAN
METHOD:PUBLISH
X-WR-CALNAME:Lucas Richman
X-ORIGINAL-URL:https://lucasrichman.com
X-WR-CALDESC:Events for Lucas Richman
REFRESH-INTERVAL;VALUE=DURATION:PT1H
X-Robots-Tag:noindex
X-PUBLISHED-TTL:PT1H
BEGIN:VTIMEZONE
TZID:America/New_York
BEGIN:DAYLIGHT
TZOFFSETFROM:-0500
TZOFFSETTO:-0400
TZNAME:EDT
DTSTART:20220313T070000
END:DAYLIGHT
BEGIN:STANDARD
TZOFFSETFROM:-0400
TZOFFSETTO:-0500
TZNAME:EST
DTSTART:20221106T060000
END:STANDARD
END:VTIMEZONE
BEGIN:VEVENT
DTSTART;TZID=America/New_York:20220130T160000
DTEND;TZID=America/New_York:20220130T170000
DTSTAMP:20260423T162324
CREATED:20210901T174043Z
LAST-MODIFIED:20210901T174043Z
UID:12081-1643558400-1643562000@lucasrichman.com
SUMMARY:The United Symphony
DESCRIPTION:Free Family Concert!\nSalisbury Symphony \nDavid Hagy\, conductor\nAll County Fifth Grade Honors Chorus \nHeld at the First Baptist Church gymnasium so the orchestra members can be spread widely apart and the audience members can sit on the floor next to any musician they like and move about during the concert!
URL:https://lucasrichman.com/event/the-united-symphony/
CATEGORIES:Composer
ATTACH;FMTTYPE=image/png:https://lucasrichman.com/wp-content/uploads/2021/09/TUS-Website-Picture.png
END:VEVENT
END:VCALENDAR