BEGIN:VCALENDAR
VERSION:2.0
PRODID:-//Lucas Richman - ECPv6.0.2//NONSGML v1.0//EN
CALSCALE:GREGORIAN
METHOD:PUBLISH
X-WR-CALNAME:Lucas Richman
X-ORIGINAL-URL:https://lucasrichman.com
X-WR-CALDESC:Events for Lucas Richman
REFRESH-INTERVAL;VALUE=DURATION:PT1H
X-Robots-Tag:noindex
X-PUBLISHED-TTL:PT1H
BEGIN:VTIMEZONE
TZID:America/New_York
BEGIN:DAYLIGHT
TZOFFSETFROM:-0500
TZOFFSETTO:-0400
TZNAME:EDT
DTSTART:20190310T070000
END:DAYLIGHT
BEGIN:STANDARD
TZOFFSETFROM:-0400
TZOFFSETTO:-0500
TZNAME:EST
DTSTART:20191103T060000
END:STANDARD
END:VTIMEZONE
BEGIN:VEVENT
DTSTART;TZID=America/New_York:20191221T143000
DTEND;TZID=America/New_York:20191221T170000
DTSTAMP:20260423T094704
CREATED:20191001T192431Z
LAST-MODIFIED:20191214T013802Z
UID:732-1576938600-1576947600@lucasrichman.com
SUMMARY:"Three Pieces for Cello and Orchestra"
DESCRIPTION:Sensory Friendly Concert:  Holiday Pops\nDan Meyer\, Conductor\nAllie Thompson\, Cello\, performing “Freylach” from Lucas Richman’s Three Pieces for Cello and Orchestra \nDeck the halls with boughs of holly – For the first time ever\, The Pittsburgh Symphony Orchestra presents our traditional Holiday Pops concert as a sensory-friendly performance! Get in the holiday spirit with the entire family\, in a judgment-free environment that is welcoming to all\, especially those with sensory sensitivities and those on the autism spectrum. \nPre-concert activities start at 1:15 p.m. \nCheck out just a few of the exciting things in store for this special performance: \n\n\n\n\nDancers from the Pittsburgh Ballet Theatre are excited to meet you ahead of the concert – before they perform a timeless\, audience favorite\, “Dance of the Sugar Plum Fairy” from the Nutcracker. \n\n\n\n\n\n\n \nThe Pittsburgh Youth Chorus performs an incredible selection of holiday favorites\, including music from Home Alone and A Charlie Brown Christmas. \n\n\n\n\n\n\nBefore the concert\, stop by the front lobby for an up-close look at the handbells\, which The Three Rivers Ringers bell choir will perform with at the concert.
URL:https://lucasrichman.com/event/three-pieces-for-cello-and-orchestra/
LOCATION:Heinz Hall\, Pittsburgh\, PA
CATEGORIES:Composer
END:VEVENT
END:VCALENDAR