BEGIN:VCALENDAR
VERSION:2.0
PRODID:-//Lucas Richman - ECPv6.0.2//NONSGML v1.0//EN
CALSCALE:GREGORIAN
METHOD:PUBLISH
X-ORIGINAL-URL:https://lucasrichman.com
X-WR-CALDESC:Events for Lucas Richman
REFRESH-INTERVAL;VALUE=DURATION:PT1H
X-Robots-Tag:noindex
X-PUBLISHED-TTL:PT1H
BEGIN:VTIMEZONE
TZID:America/New_York
BEGIN:DAYLIGHT
TZOFFSETFROM:-0500
TZOFFSETTO:-0400
TZNAME:EDT
DTSTART:20190310T070000
END:DAYLIGHT
BEGIN:STANDARD
TZOFFSETFROM:-0400
TZOFFSETTO:-0500
TZNAME:EST
DTSTART:20191103T060000
END:STANDARD
END:VTIMEZONE
BEGIN:VEVENT
DTSTART;TZID=America/New_York:20191018T200000
DTEND;TZID=America/New_York:20191018T220000
DTSTAMP:20260423T125854
CREATED:20191001T191116Z
LAST-MODIFIED:20200123T195650Z
UID:726-1571428800-1571436000@lucasrichman.com
SUMMARY:Orlando Philharmonic
DESCRIPTION:Dr. Phillips Center Presents Disney in Concert \nTim Burton’s The Nightmare Before Christmas\nLucas Richman\, Conductor\nWalt Disney Theater\nBack by popular demand! \nExperience Tim Burton’s cult classic with Danny Elfman’s score performed live by a symphony orchestra. When Jack Skellington\, Halloweentown’s pumpkin king\, accidentally stumbles on Christmas town\, he plots to bring Christmas under his control by kidnapping Santa Claus and taking over the role. But Jack soon discovers even the best-laid plans of mice and skeleton men can go seriously awry
URL:https://lucasrichman.com/event/orlando-philharmonic/
LOCATION:Dr. Phillips Center\, Orlando\, Florida
CATEGORIES:Conductor
ATTACH;FMTTYPE=image/jpeg:https://lucasrichman.com/wp-content/uploads/2019/10/Nightmare-image.jpg
END:VEVENT
END:VCALENDAR