BEGIN:VCALENDAR
VERSION:2.0
PRODID:-//Lucas Richman - ECPv6.0.2//NONSGML v1.0//EN
CALSCALE:GREGORIAN
METHOD:PUBLISH
X-ORIGINAL-URL:https://lucasrichman.com
X-WR-CALDESC:Events for Lucas Richman
REFRESH-INTERVAL;VALUE=DURATION:PT1H
X-Robots-Tag:noindex
X-PUBLISHED-TTL:PT1H
BEGIN:VTIMEZONE
TZID:America/New_York
BEGIN:DAYLIGHT
TZOFFSETFROM:-0500
TZOFFSETTO:-0400
TZNAME:EDT
DTSTART:20220313T070000
END:DAYLIGHT
BEGIN:STANDARD
TZOFFSETFROM:-0400
TZOFFSETTO:-0500
TZNAME:EST
DTSTART:20221106T060000
END:STANDARD
END:VTIMEZONE
BEGIN:VEVENT
DTSTART;TZID=America/New_York:20220622T200000
DTEND;TZID=America/New_York:20220622T200000
DTSTAMP:20260425T202316
CREATED:20220414T145414Z
LAST-MODIFIED:20220414T145426Z
UID:18392-1655928000-1655928000@lucasrichman.com
SUMMARY:Concerto for Violin and Cello: Un Pasto con Luciana e Mario
DESCRIPTION:Atlanta Musicians’ Orchestra presents\nCELEBRATING 100 YEARS OF MUSIC!\nDahlan Robert Foah\, conductor\nKenn Wagner\, Violin\nDavid Schepps\, Cello \nWorld Premiere Performance of \nConcerto for Violin and Cello: “Un Pasto con Luciana e Mario”\nAbout the piece… \nSpivey Hall\nClayton State University \nJune 22\, 2022  8:00pm
URL:https://lucasrichman.com/event/concerto-for-violin-and-cello-un-pasto-con-luciana-e-mario-2/
LOCATION:PA
CATEGORIES:Composer
ATTACH;FMTTYPE=image/png:https://lucasrichman.com/wp-content/uploads/2021/05/Concerto-for-Violin-and-Cello-Un-Pasto-con-Luciana-e-Mario.png
END:VEVENT
END:VCALENDAR