BEGIN:VCALENDAR
VERSION:2.0
PRODID:-//Lucas Richman - ECPv6.0.2//NONSGML v1.0//EN
CALSCALE:GREGORIAN
METHOD:PUBLISH
X-WR-CALNAME:Lucas Richman
X-ORIGINAL-URL:https://lucasrichman.com
X-WR-CALDESC:Events for Lucas Richman
REFRESH-INTERVAL;VALUE=DURATION:PT1H
X-Robots-Tag:noindex
X-PUBLISHED-TTL:PT1H
BEGIN:VTIMEZONE
TZID:America/New_York
BEGIN:DAYLIGHT
TZOFFSETFROM:-0500
TZOFFSETTO:-0400
TZNAME:EDT
DTSTART:20210314T070000
END:DAYLIGHT
BEGIN:STANDARD
TZOFFSETFROM:-0400
TZOFFSETTO:-0500
TZNAME:EST
DTSTART:20211107T060000
END:STANDARD
END:VTIMEZONE
BEGIN:VEVENT
DTSTART;TZID=America/New_York:20211121T150000
DTEND;TZID=America/New_York:20211121T170000
DTSTAMP:20260425T075028
CREATED:20211016T185818Z
LAST-MODIFIED:20211016T185818Z
UID:15589-1637506800-1637514000@lucasrichman.com
SUMMARY:Bangor Symphony Orchestra
DESCRIPTION:Masterworks II\nBeethoven’s 8th\n\n\nNovember 21\, 2021 at 3pm\nCollins Center for the Arts \nLucas Richman\, conductor\nMark Kosower\, cello\nThe rich sounds of Mendelssohn\, Saint-Saëns and Beethoven will move and inspire \n→ Experience in-person or online \n→ Read our safety policy: proof of vaccination with valid ID and masks required. \nWhat’s Interesting About This Concert \n\nThe BSO continues it’s cycle of Beethoven’s symphonies under Lucas Richman’s baton with the composer’s great Symphony No. 8 in F Major\nCellist Mark Kosower is principal cellist of the renowned Cleveland Orchestra and a celebrated soloist known for his virtuosity\n\nThe Program\n\nFelix Mendelssohn | A Midsummer Night’s Dream; Overture\nCamille Saint-Saëns |Cello Concerto No 1\, A minor\, Mark Kosower\, cello\nLudwig van Beethoven | Symphony No. 8\, F major\, Op. 93\n\nTickets\n\nSeason subscriptions on sale now; new subscribers save 40%\nSingle tickets on sale now\, starting at just $15\n\nDigital Access: November 23 to December 7\, 2021 \n\nIn-person ticketholders receive complimentary digital access\nDigital-only viewing is available for $40 per household at watch.bangorsymphony.org
URL:https://lucasrichman.com/event/bangor-symphony-orchestra-11/
LOCATION:Collins Center for the Arts\, 2 Flagstaff Road\, Orono\, ME\, 04473\, United States
CATEGORIES:Conductor
ATTACH;FMTTYPE=image/jpeg:https://lucasrichman.com/wp-content/uploads/2021/10/BSO-SeasonRotators-21_22-V23-1024x406-1.jpg
END:VEVENT
BEGIN:VEVENT
DTSTART;TZID=America/New_York:20211127T110000
DTEND;TZID=America/New_York:20211127T120000
DTSTAMP:20260425T075028
CREATED:20211019T173710Z
LAST-MODIFIED:20211103T171701Z
UID:15922-1638010800-1638014400@lucasrichman.com
SUMMARY:Hanukkah Festival Overture
DESCRIPTION:Louisville Orchestra\nFAMILY: JINGLE BELL CONCERT\nSATURDAY\, NOVEMBER 27\, 2021 11:00AM\n\n\n\n\n\nSAT 27 NOV at 11AM • Kentucky Center •  Kick off your holiday season with the joyful music of Yuletide. Singer-pianist Tony DeSare joins the orchestra for some holiday favorites. The jingle of sleighbells and the fun of an audience sing-along are part of this fun and affordable family tradition. \nBOB BERNHARDT\, conductor\nTONY DeSARE\, piano
URL:https://lucasrichman.com/event/hanukkah-festival-overture-48/
LOCATION:PA
CATEGORIES:Composer
ATTACH;FMTTYPE=image/png:https://lucasrichman.com/wp-content/uploads/2020/11/Hanukkah-Festival-Overture-Image.png
END:VEVENT
BEGIN:VEVENT
DTSTART;TZID=America/New_York:20211127T200000
DTEND;TZID=America/New_York:20211127T220000
DTSTAMP:20260425T075028
CREATED:20211019T173502Z
LAST-MODIFIED:20211019T173502Z
UID:15918-1638043200-1638050400@lucasrichman.com
SUMMARY:Hanukkah Festival Overture
DESCRIPTION:Louisville Orchestra\nPOPS: HOLIDAY POPS\nSAT 27 NOV at 8PM • Kentucky Center • Listen for the sleigh bells and gather for favorite Christmas music. How sweet it will be to bring the family together for this traditional musical treat. \nWith infectious joy\, wry playfulness\, and robust musicality\, Tony DeSare leads the celebration with a fresh take on holiday classics. \nBOB BERNHARDT\, conductor\nTONY DeSARE\, vocals and piano
URL:https://lucasrichman.com/event/hanukkah-festival-overture-47/
LOCATION:PA
CATEGORIES:Composer
ATTACH;FMTTYPE=image/png:https://lucasrichman.com/wp-content/uploads/2020/11/Hanukkah-Festival-Overture-Image.png
END:VEVENT
END:VCALENDAR