BEGIN:VCALENDAR
VERSION:2.0
PRODID:-//Lucas Richman - ECPv6.0.2//NONSGML v1.0//EN
CALSCALE:GREGORIAN
METHOD:PUBLISH
X-ORIGINAL-URL:https://lucasrichman.com
X-WR-CALDESC:Events for Lucas Richman
REFRESH-INTERVAL;VALUE=DURATION:PT1H
X-Robots-Tag:noindex
X-PUBLISHED-TTL:PT1H
BEGIN:VTIMEZONE
TZID:America/New_York
BEGIN:DAYLIGHT
TZOFFSETFROM:-0500
TZOFFSETTO:-0400
TZNAME:EDT
DTSTART:20200308T070000
END:DAYLIGHT
BEGIN:STANDARD
TZOFFSETFROM:-0400
TZOFFSETTO:-0500
TZNAME:EST
DTSTART:20201101T060000
END:STANDARD
END:VTIMEZONE
BEGIN:VEVENT
DTSTART;TZID=America/New_York:20201201T080000
DTEND;TZID=America/New_York:20201201T170000
DTSTAMP:20260424T170337
CREATED:20201107T210224Z
LAST-MODIFIED:20201107T212639Z
UID:2124-1606809600-1606842000@lucasrichman.com
SUMMARY:Hanukkah Festival Overture
DESCRIPTION:Albany Symphony Orchestra\nPeppermint Pops!\nClaire Hillard\, conductor\nTV Presentation
URL:https://lucasrichman.com/event/hanukkah-festival-overture-reduced-orchestration/
LOCATION:PA
CATEGORIES:Composer
ATTACH;FMTTYPE=image/png:https://lucasrichman.com/wp-content/uploads/2020/11/Hanukkah-Festival-Overture-Image.png
END:VEVENT
BEGIN:VEVENT
DTSTART;TZID=America/New_York:20201201T080000
DTEND;TZID=America/New_York:20201201T170000
DTSTAMP:20260424T170337
CREATED:20201107T211036Z
LAST-MODIFIED:20201107T211502Z
UID:2128-1606809600-1606842000@lucasrichman.com
SUMMARY:Christmas Sing-Along
DESCRIPTION:Albany Symphony Orchestra\nPeppermint Pops!\nClaire Hillard\, conductor\nTV Presentation
URL:https://lucasrichman.com/event/christmas-sing-along-9/
LOCATION:PA
CATEGORIES:Composer
ATTACH;FMTTYPE=image/png:https://lucasrichman.com/wp-content/uploads/2020/11/Christmas-Sing-Along-1.png
END:VEVENT
BEGIN:VEVENT
DTSTART;TZID=America/New_York:20201201T080000
DTEND;TZID=America/New_York:20201201T170000
DTSTAMP:20260424T170337
CREATED:20201107T211416Z
LAST-MODIFIED:20201107T211416Z
UID:2133-1606809600-1606842000@lucasrichman.com
SUMMARY:Christmas Ornaments Overture
DESCRIPTION:Albany Symphony Orchestra\nPeppermint Pops!\nClaire Hillard\, conductor\nTV Presentation
URL:https://lucasrichman.com/event/christmas-ornaments-overture/
LOCATION:PA
CATEGORIES:Composer
ATTACH;FMTTYPE=image/png:https://lucasrichman.com/wp-content/uploads/2020/11/Christmas-Ornaments-Overture-1.png
END:VEVENT
BEGIN:VEVENT
DTSTART;TZID=America/New_York:20201201T080000
DTEND;TZID=America/New_York:20201201T170000
DTSTAMP:20260424T170337
CREATED:20201107T211751Z
LAST-MODIFIED:20201115T201725Z
UID:2137-1606809600-1606842000@lucasrichman.com
SUMMARY:Hanukkah Medley
DESCRIPTION:Portland Symphony Orchestra\nMagic of Christmas\nON DEMAND December 1 – December 31\nEckart Preu\, conductor \nThis year\, your PSO is bringing the Magic of Christmas to you!  Watch this new\, online concert led by Music Director Eckart Preu\, with special guests Alyson Cambridge\, James Kennerley\, the Magic of Christmas Chorus\, the Portland Ballet\, and Pihcintu Multicultural Chorus!  Featuring Christmas classics as well as a world premiere holiday work and the beloved “Sleigh Ride”!
URL:https://lucasrichman.com/event/hanukkah-medley/
LOCATION:PA
CATEGORIES:Composer
ATTACH;FMTTYPE=image/png:https://lucasrichman.com/wp-content/uploads/2020/11/Hanukkah-Medley-2.png
END:VEVENT
BEGIN:VEVENT
DTSTART;TZID=America/New_York:20201201T190000
DTEND;TZID=America/New_York:20201201T190000
DTSTAMP:20260424T170337
CREATED:20201107T212037Z
LAST-MODIFIED:20201116T012941Z
UID:2141-1606849200-1606849200@lucasrichman.com
SUMMARY:O Holy Night
DESCRIPTION:Portland Symphony Orchestra\nMagic of Christmas\nON DEMAND December 1 – December 31\nEckart Preu\, conductor \nThis year\, your PSO is bringing the Magic of Christmas to you!  Watch this new\, online concert led by Music Director Eckart Preu\, with special guests Alyson Cambridge\, James Kennerley\, the Magic of Christmas Chorus\, the Portland Ballet\, and Pihcintu Multicultural Chorus!  Featuring Christmas classics as well as a world premiere holiday work and the beloved “Sleigh Ride”!
URL:https://lucasrichman.com/event/o-holy-night/
LOCATION:PA
CATEGORIES:Composer
ATTACH;FMTTYPE=image/png:https://lucasrichman.com/wp-content/uploads/2020/11/O-Holy-Night.png
END:VEVENT
BEGIN:VEVENT
DTSTART;TZID=America/New_York:20201205T190000
DTEND;TZID=America/New_York:20201205T190000
DTSTAMP:20260424T170337
CREATED:20201107T212244Z
LAST-MODIFIED:20201107T212750Z
UID:2145-1607194800-1607194800@lucasrichman.com
SUMMARY:Hanukkah Festival Overture
DESCRIPTION:Meridian Symphony Orchestra\nPeppermint Pops!\nPeter Rubardt\, conductor \nA Meridian Symphony family tradition! Join the Orchestra\, the Meridian Symphony Chorus\, the William Carey University Chorale and special guest\, hometown celebrity Todd Tilghman\, for this festive celebration featuring beautiful sounds of the season – old and new – including the traditional family sing-alongs.  \nThe MSU Riley Center will be ringing with holiday cheer and filled with exciting fun for everyone\, including wassail\, cookies and cocoa\, and a special appearance from Jolly Old St. Nick and his elves!
URL:https://lucasrichman.com/event/hanukkah-festival-overture-40/
LOCATION:PA
CATEGORIES:Composer
ATTACH;FMTTYPE=image/png:https://lucasrichman.com/wp-content/uploads/2020/11/Hanukkah-Festival-Overture-Image.png
END:VEVENT
BEGIN:VEVENT
DTSTART;TZID=America/New_York:20201218T200000
DTEND;TZID=America/New_York:20201218T200000
DTSTAMP:20260424T170337
CREATED:20201125T132835Z
LAST-MODIFIED:20201125T132914Z
UID:2187-1608321600-1608321600@lucasrichman.com
SUMMARY:A Hanukkah Celebration
DESCRIPTION:Naples Philharmonic\nHoliday Pops!\nJack Everly\, principal pops conductor\nCarolann Sanita-VanderMeer\, vocalist\nAlex Mansoori\, vocalist \nDeck the Halls as Jack Everly and the Naples Philharmonic usher in the holidays with a 75-minute program of timeless classics of the season. Enjoy some of your favorite holiday melodies\, including Sleigh Ride\, Rudolph\, the Red-Nosed Reindeer\, and O Tannenbaum from socially-distanced seating in Hayes Hall\, or sit at a table for four in Norris Garden and enjoy an outdoor simulcast of the performance on a 24-foot movie screen.
URL:https://lucasrichman.com/event/a-hanukkah-celebration-2/
LOCATION:PA
CATEGORIES:Composer
ATTACH;FMTTYPE=image/png:https://lucasrichman.com/wp-content/uploads/2020/11/A-Hanukkah-Celebration.png
END:VEVENT
BEGIN:VEVENT
DTSTART;TZID=America/New_York:20201219T140000
DTEND;TZID=America/New_York:20201219T170000
DTSTAMP:20260424T170337
CREATED:20201125T133106Z
LAST-MODIFIED:20201125T133106Z
UID:2191-1608386400-1608397200@lucasrichman.com
SUMMARY:A Hanukkah Celebration
DESCRIPTION:Naples Philharmonic\nHoliday Pops!\nJack Everly\, principal pops conductor\nCarolann Sanita-VanderMeer\, vocalist\nAlex Mansoori\, vocalist \nDeck the Halls as Jack Everly and the Naples Philharmonic usher in the holidays with a 75-minute program of timeless classics of the season. Enjoy some of your favorite holiday melodies\, including Sleigh Ride\, Rudolph\, the Red-Nosed Reindeer\, and O Tannenbaum from socially-distanced seating in Hayes Hall\, or sit at a table for four in Norris Garden and enjoy an outdoor simulcast of the performance on a 24-foot movie screen.
URL:https://lucasrichman.com/event/a-hanukkah-celebration-3/
LOCATION:PA
CATEGORIES:Composer
ATTACH;FMTTYPE=image/png:https://lucasrichman.com/wp-content/uploads/2020/11/A-Hanukkah-Celebration.png
END:VEVENT
BEGIN:VEVENT
DTSTART;TZID=America/New_York:20201219T193000
DTEND;TZID=America/New_York:20201219T193000
DTSTAMP:20260424T170337
CREATED:20201107T212445Z
LAST-MODIFIED:20201116T013043Z
UID:2147-1608406200-1608406200@lucasrichman.com
SUMMARY:A Hanukkah Celebration
DESCRIPTION:Westmoreland Symphony Orchestra\nHOME FOR THE HOLIDAYS\nDaniel Meyer\, conductor \nIt’s the merriest concert of the year! Celebrate the sounds of the season with your Westmoreland Symphony Orchestra conducted by Daniel Meyer. This concert will be brought to the comfort of your own home thanks to our new high-definition camera system at the Palace Theatre.
URL:https://lucasrichman.com/event/a-hanukkah-celebration/
LOCATION:PA
CATEGORIES:Composer
ATTACH;FMTTYPE=image/png:https://lucasrichman.com/wp-content/uploads/2020/11/A-Hanukkah-Celebration.png
END:VEVENT
END:VCALENDAR