BEGIN:VCALENDAR
VERSION:2.0
PRODID:-//Lucas Richman - ECPv6.0.2//NONSGML v1.0//EN
CALSCALE:GREGORIAN
METHOD:PUBLISH
X-ORIGINAL-URL:https://lucasrichman.com
X-WR-CALDESC:Events for Lucas Richman
REFRESH-INTERVAL;VALUE=DURATION:PT1H
X-Robots-Tag:noindex
X-PUBLISHED-TTL:PT1H
BEGIN:VTIMEZONE
TZID:America/New_York
BEGIN:DAYLIGHT
TZOFFSETFROM:-0500
TZOFFSETTO:-0400
TZNAME:EDT
DTSTART:20200308T070000
END:DAYLIGHT
BEGIN:STANDARD
TZOFFSETFROM:-0400
TZOFFSETTO:-0500
TZNAME:EST
DTSTART:20201101T060000
END:STANDARD
END:VTIMEZONE
BEGIN:VEVENT
DTSTART;TZID=America/New_York:20200201T080000
DTEND;TZID=America/New_York:20200201T170000
DTSTAMP:20260424T183854
CREATED:20200223T172938Z
LAST-MODIFIED:20200223T172938Z
UID:2031-1580544000-1580576400@lucasrichman.com
SUMMARY:"Music Can Make Your Life Complete"
DESCRIPTION:Pittsburgh Symphony Orchestra\nLove is in the Air\nYoung Peoples Concert \nRoses are red\, violets are blue\, Fiddlesticks loves music\, and you do too! \nFiddlesticks celebrates love’s many shapes with family\, friends and neighbors. \nFiddlesticks invites you to arrive at 10:00 a.m. to make sure you experience everything these concerts have to offer! \n\nLearn the Fiddlesticks Theme Song\, “Music Can Make Your Life Complete” with guest vocalist Katy Williams\nMeet Pittsburgh Symphony musicians and ask them about their instruments\nMove to music and explore rhythm\nMake a craft to take home with you\nHear the full Pittsburgh Symphony Orchestra at 11:15 a.m. when Fiddlesticks and the orchestra take the stage\n\nFiddlesticks wants to make sure everyone feels welcome at these concerts! \nA family restroom\, Braille programs\, a quiet room\, fidgets\, and noise-cancelling headphones are available at all Fiddlesticks concerts.
URL:https://lucasrichman.com/event/music-can-make-your-life-complete-3/
LOCATION:Heinz Hall\, Pittsburgh\, PA
CATEGORIES:Composer
ATTACH;FMTTYPE=image/jpeg:https://lucasrichman.com/wp-content/uploads/2020/02/2019-2020-Fidd.jpg
END:VEVENT
BEGIN:VEVENT
DTSTART;TZID=America/New_York:20200202T150000
DTEND;TZID=America/New_York:20200202T170000
DTSTAMP:20260424T183854
CREATED:20191224T005915Z
LAST-MODIFIED:20200123T181446Z
UID:1590-1580655600-1580662800@lucasrichman.com
SUMMARY:"Shades of the Jebel"
DESCRIPTION:Featuring “Shades of the Jebel” \nwith Lucas Richman\, piano \nAll Souls Church (Bangor\, ME)
URL:https://lucasrichman.com/event/shades-of-the-jebel/
LOCATION:PA
CATEGORIES:Composer
END:VEVENT
END:VCALENDAR