BEGIN:VCALENDAR
VERSION:2.0
PRODID:-//Lucas Richman - ECPv6.0.2//NONSGML v1.0//EN
CALSCALE:GREGORIAN
METHOD:PUBLISH
X-ORIGINAL-URL:https://lucasrichman.com
X-WR-CALDESC:Events for Lucas Richman
REFRESH-INTERVAL;VALUE=DURATION:PT1H
X-Robots-Tag:noindex
X-PUBLISHED-TTL:PT1H
BEGIN:VTIMEZONE
TZID:America/New_York
BEGIN:DAYLIGHT
TZOFFSETFROM:-0500
TZOFFSETTO:-0400
TZNAME:EDT
DTSTART:20220313T070000
END:DAYLIGHT
BEGIN:STANDARD
TZOFFSETFROM:-0400
TZOFFSETTO:-0500
TZNAME:EST
DTSTART:20221106T060000
END:STANDARD
END:VTIMEZONE
BEGIN:VEVENT
DTSTART;TZID=America/New_York:20220410T150000
DTEND;TZID=America/New_York:20220410T170000
DTSTAMP:20260422T232155
CREATED:20211016T190445Z
LAST-MODIFIED:20211016T190445Z
UID:15601-1649602800-1649610000@lucasrichman.com
SUMMARY:Bangor Symphony Orchestra
DESCRIPTION:Masterworks V\nA Grand Finale\n\n\nApril 10\, 2022 at 3pm\nCollins Center for the Arts \nLucas Richman\, conductor\nRoberto Plano\, piano\nA blockbuster program of Dvořák\, Beethoven and Borodin marks the end of a celebratory season \nWhat’s Interesting About This Concert \n\nItalian pianist Roberto Plano makes his BSO debut in Beethoven’s magnificent Piano Concerto. No. 4\n Dvořák’s Carnival Overture was part of his “Nature\, Life\, and Love” trilogy of overtures\, forming the second part\, “Life”\nThe Polovtsian Dances come from Borodin’s opera Prince Igor\, adopted from an ancient Russian epic\, and are often performed separately as an orchestral showcase\n\nThe Program\n\nAntonín Dvořák  | Carnival Overture\nLudwig van Beethoven|Piano Concerto No. 4\, G major\, Op. 58\, Roberto Plano\, piano\nAlexander Borodin| Polovtsian Dances\n\nTickets\n\nSeason subscriptions on sale now; new subscribers save 40%\nSingle tickets on sale now\, starting at just $15\n\nDigital Access: April 12 to April 26\, 2022 \n\nIn-person ticketholders receive complimentary digital access\nDigital-only viewing is available for $40 per household at watch.bangorsymphony.org\n\n\n\n\n\nBuy Tickets\n\n\n I saw a kind of quiet exuberance from Plano\, with sparkling clarity and gobs of technique at its service. He plays the piano with a truly genuine approach…
URL:https://lucasrichman.com/event/bangor-symphony-orchestra-15/
LOCATION:Collins Center for the Arts\, 2 Flagstaff Road\, Orono\, ME\, 04473\, United States
CATEGORIES:Conductor
ATTACH;FMTTYPE=image/jpeg:https://lucasrichman.com/wp-content/uploads/2021/10/BSO-SeasonRotators-21_22-V26-1024x406-1.jpg
END:VEVENT
END:VCALENDAR