BEGIN:VCALENDAR
VERSION:2.0
PRODID:-//Lucas Richman - ECPv6.0.2//NONSGML v1.0//EN
CALSCALE:GREGORIAN
METHOD:PUBLISH
X-WR-CALNAME:Lucas Richman
X-ORIGINAL-URL:https://lucasrichman.com
X-WR-CALDESC:Events for Lucas Richman
REFRESH-INTERVAL;VALUE=DURATION:PT1H
X-Robots-Tag:noindex
X-PUBLISHED-TTL:PT1H
BEGIN:VTIMEZONE
TZID:America/New_York
BEGIN:DAYLIGHT
TZOFFSETFROM:-0500
TZOFFSETTO:-0400
TZNAME:EDT
DTSTART:20220313T070000
END:DAYLIGHT
BEGIN:STANDARD
TZOFFSETFROM:-0400
TZOFFSETTO:-0500
TZNAME:EST
DTSTART:20221106T060000
END:STANDARD
END:VTIMEZONE
BEGIN:VEVENT
DTSTART;TZID=America/New_York:20220319T190000
DTEND;TZID=America/New_York:20220319T210000
DTSTAMP:20260423T010756
CREATED:20210901T181340Z
LAST-MODIFIED:20211016T190512Z
UID:12108-1647716400-1647723600@lucasrichman.com
SUMMARY:Bangor Symphony Orchestra - The Warming Sea
DESCRIPTION:Special Event\nThe Warming Sea\n\n\nMarch 19\, 2022 at 7pm\nCollins Center for the Arts \n\nLucas Richman\, conductor\nThe Maine Science Festival is returning in March 2022 and the headlining event is the world premiere of Lucas Richman’s The Warming Sea\, performed by the Bangor Symphony Orchestra. \nThe evening will combine art and science\, beginning with an overview of climate change in Maine from some of Maine’s leading climate researchers followed by a short film of interviews that Lucas Richman had with scientists\, researchers\, and practitioners in the Gulf of Maine. The interviews that you will see provided the foundation for Richman’s The Warming Sea. Then we’ll present The Warming Sea\, performed by the Bangor Symphony Orchestra with visuals created by Chuck Carter. We’ll end with the opportunity to hear from Richman and many of the scientists he interviewed about their unique collaboration.
URL:https://lucasrichman.com/event/the-warming-sea-2/
LOCATION:ME
CATEGORIES:Composer,Conductor
ATTACH;FMTTYPE=image/jpeg:https://lucasrichman.com/wp-content/uploads/2021/09/The-Warming-Sea-BSO.jpg
END:VEVENT
END:VCALENDAR