BEGIN:VCALENDAR
VERSION:2.0
PRODID:-//Lucas Richman - ECPv6.0.2//NONSGML v1.0//EN
CALSCALE:GREGORIAN
METHOD:PUBLISH
X-ORIGINAL-URL:https://lucasrichman.com
X-WR-CALDESC:Events for Lucas Richman
REFRESH-INTERVAL;VALUE=DURATION:PT1H
X-Robots-Tag:noindex
X-PUBLISHED-TTL:PT1H
BEGIN:VTIMEZONE
TZID:America/New_York
BEGIN:DAYLIGHT
TZOFFSETFROM:-0500
TZOFFSETTO:-0400
TZNAME:EDT
DTSTART:20210314T070000
END:DAYLIGHT
BEGIN:STANDARD
TZOFFSETFROM:-0400
TZOFFSETTO:-0500
TZNAME:EST
DTSTART:20211107T060000
END:STANDARD
END:VTIMEZONE
BEGIN:VEVENT
DTSTART;TZID=America/New_York:20211204T140000
DTEND;TZID=America/New_York:20211204T170000
DTSTAMP:20260423T055905
CREATED:20210901T170612Z
LAST-MODIFIED:20211021T204217Z
UID:12049-1638626400-1638637200@lucasrichman.com
SUMMARY:Hanukkah Festival Overture (for Concert Band)
DESCRIPTION:Kingdom of the Sun Concert Band –\nLeslie N. Muncaster\, Jr.\, conductor \nDecember 4\, 2021\, 2:00 p.m. \nMarion Technical Institute\n1614 E. Fort King Street\nOcala\, Florida \n 
URL:https://lucasrichman.com/event/hanukkah-festival-overture-for-concert-band/
LOCATION:ME
CATEGORIES:Conductor
ATTACH;FMTTYPE=image/png:https://lucasrichman.com/wp-content/uploads/2021/09/HFO-for-Concert-Band-2.png
END:VEVENT
BEGIN:VEVENT
DTSTART;TZID=America/New_York:20211218T190000
DTEND;TZID=America/New_York:20211218T210000
DTSTAMP:20260423T055905
CREATED:20211016T185959Z
LAST-MODIFIED:20211016T185959Z
UID:15592-1639854000-1639861200@lucasrichman.com
SUMMARY:Bangor Symphony Orchestra
DESCRIPTION:Special Event\nWinter Holiday Pops!\n\n\nDecember 18\, 2021 at 7pm\nCollins Center for the Arts \nLucas Richman\, conductor\nHannah Madeline Goodman\, soprano\nCelebrate the holidays with the joy of music!\nThe Bangor Symphony Orchestra and a lineup of special guests bring magic to the holiday season with the Winter Holiday Pops! Soprano Hannah Madeline Goodman\, conductor Lucas Richman\, and the musicians of the BSO come together for this special night of music featuring classic carols\, recent holiday favorites\, and more. It’s the most wonderful time of the year! \nFull program to be announced. \nRead our safety policy: proof of vaccination with valid ID and masks required. \nTicket Options \n\nTickets available now\, ranging from $14 to $34.\nDigital streaming options to be announced.
URL:https://lucasrichman.com/event/bangor-symphony-orchestra-12/
LOCATION:Collins Center for the Arts\, 2 Flagstaff Road\, Orono\, ME\, 04473\, United States
CATEGORIES:Conductor
ATTACH;FMTTYPE=image/jpeg:https://lucasrichman.com/wp-content/uploads/2021/10/BSO-SeasonRotators-21_22-SpecialEventWinter-1024x406-1.jpeg
END:VEVENT
END:VCALENDAR