BEGIN:VCALENDAR
VERSION:2.0
PRODID:-//Lucas Richman - ECPv6.0.2//NONSGML v1.0//EN
CALSCALE:GREGORIAN
METHOD:PUBLISH
X-WR-CALNAME:Lucas Richman
X-ORIGINAL-URL:https://lucasrichman.com
X-WR-CALDESC:Events for Lucas Richman
REFRESH-INTERVAL;VALUE=DURATION:PT1H
X-Robots-Tag:noindex
X-PUBLISHED-TTL:PT1H
BEGIN:VTIMEZONE
TZID:America/New_York
BEGIN:DAYLIGHT
TZOFFSETFROM:-0500
TZOFFSETTO:-0400
TZNAME:EDT
DTSTART:20210314T070000
END:DAYLIGHT
BEGIN:STANDARD
TZOFFSETFROM:-0400
TZOFFSETTO:-0500
TZNAME:EST
DTSTART:20211107T060000
END:STANDARD
END:VTIMEZONE
BEGIN:VEVENT
DTSTART;TZID=America/New_York:20211010T150000
DTEND;TZID=America/New_York:20211010T170000
DTSTAMP:20260423T090138
CREATED:20211016T185555Z
LAST-MODIFIED:20211016T185615Z
UID:15584-1633878000-1633885200@lucasrichman.com
SUMMARY:Bangor Symphony Orchestra
DESCRIPTION:Masterworks I\nCelebration: The BSO is Back!\n\n\nOctober 10\, 2021 at 3pm\nCollins Center for the Arts \n\nLucas Richman\, conductor\nJoyce Yang\, piano\nReinaldo Moya\, composer\nA thrilling range of orchestral color is on display in the BSO’s return to live performance\, now available for streaming through October 26th \n→ Watch the concert online \n→ Watch the pre-concert talk \n→ Read the review in the Bangor Daily News \nWhat’s Interesting About This Concert \n\nThe BSO presents a full orchestra on stage for the first time in nearly 2 years\, with Benjamin Britten’s Young Person’s Guide to the Orchestra serving as a showcase for every section of the ensemble\nA world premiere of international significance: Reinaldo Moya’s multimedia Concerto for Piano\, Strings and Percussion is inspired by Venezuelan artist Carlos Cruz-Diez [Learn more]\nAcclaimed pianist Joyce Yang makes her long-awaited BSO debut\nAaron Copland’s Fanfare for the Common Man heralds a new beginning in spectacular fashion\n\nThe Program\n\nAaron Copland | Fanfare for the Common Man\nGiachino Rossini | William Tell Overture\nReinaldo Moya| Concerto for Piano\, Strings and Percussion\, Joyce Yang\, piano\nBenjamin Britten | Young Person’s Guide to the Orchestra\n\nDigital Access: October 12 to October 26\, 2021 \n\nIn-person ticketholders receive complimentary digital access\nDigital-only viewing is available for $40 per household at watch.bangorsymphony.org
URL:https://lucasrichman.com/event/bangor-symphony-orchestra-10/
LOCATION:Collins Center for the Arts\, 2 Flagstaff Road\, Orono\, ME\, 04473\, United States
CATEGORIES:Conductor
ATTACH;FMTTYPE=image/jpeg:https://lucasrichman.com/wp-content/uploads/2021/10/BSO-SeasonRotators-21_22-V22.jpg
END:VEVENT
BEGIN:VEVENT
DTSTART;TZID=America/New_York:20211016T080000
DTEND;TZID=America/New_York:20211016T170000
DTSTAMP:20260423T090138
CREATED:20211016T190257Z
LAST-MODIFIED:20211016T190257Z
UID:15598-1634371200-1634403600@lucasrichman.com
SUMMARY:Bangor Symphony Orchestra
DESCRIPTION:Masterworks IV\nFrom Firebird to the Future\n\n\nMarch 6\, 2022 at 3pm\nCollins Center for the Arts \nLucas Richman\, conductor\nPam Weeks\, mountain dulcimer\nJessica Meyer\, composer\nStravinsky’s iconic Firebird Suite anchors a program of innovation and merging traditions \nWhat’s Interesting About This Concert \n\nA world-premiere by Ellis-Beauregard Foundation Composer Award winner Jessica Meyer is sure to push boundaries\nConni Ellisor’s Blackberry Winter has been featured on NPR and fuses the sounds of mountain folk and American classical\, brought to life here by Maine-based dulcimer player Pam Weeks\n\nThe Program\n\nJessica Meyer | World Premiere\nConni Ellisor|Blackberry Winter\, Pam Weeks\, mountain dulcimer\nIgor Stravinsky| Firebird Suite (1919)\n\nTickets\n\nSeason subscriptions on sale now; new subscribers save 40%\nSingle tickets on sale now\, starting at just $15\n\nDigital Access: March 8 to March 22\, 2022 \n\nIn-person ticketholders receive complimentary digital access\nDigital-only viewing is available for $40 per household at watch.bangorsymphony.org
URL:https://lucasrichman.com/event/bangor-symphony-orchestra-14/
LOCATION:ME
CATEGORIES:Conductor
ATTACH;FMTTYPE=image/jpeg:https://lucasrichman.com/wp-content/uploads/2021/10/BSO-SeasonRotators-21_22-V25-1024x406-1.jpg
END:VEVENT
END:VCALENDAR