BEGIN:VCALENDAR
VERSION:2.0
PRODID:-//Lucas Richman - ECPv6.0.2//NONSGML v1.0//EN
CALSCALE:GREGORIAN
METHOD:PUBLISH
X-WR-CALNAME:Lucas Richman
X-ORIGINAL-URL:https://lucasrichman.com
X-WR-CALDESC:Events for Lucas Richman
REFRESH-INTERVAL;VALUE=DURATION:PT1H
X-Robots-Tag:noindex
X-PUBLISHED-TTL:PT1H
BEGIN:VTIMEZONE
TZID:America/New_York
BEGIN:DAYLIGHT
TZOFFSETFROM:-0500
TZOFFSETTO:-0400
TZNAME:EDT
DTSTART:20210314T070000
END:DAYLIGHT
BEGIN:STANDARD
TZOFFSETFROM:-0400
TZOFFSETTO:-0500
TZNAME:EST
DTSTART:20211107T060000
END:STANDARD
END:VTIMEZONE
BEGIN:VEVENT
DTSTART;TZID=America/New_York:20210504T190000
DTEND;TZID=America/New_York:20210504T190000
DTSTAMP:20260423T164017
CREATED:20210508T211059Z
LAST-MODIFIED:20210509T154914Z
UID:6581-1620154800-1620154800@lucasrichman.com
SUMMARY:Bangor Symphony Orchestra
DESCRIPTION:Digital Masterworks IV\nMozart & Schubert\n\n\nMay 14\, 2021 at 7pm\nAvailable Online For 30 Days \n\nLucas Richman\, conductor\nJennifer Frautschi\, violin\nInspired classics move us in this program of Viennese gems \nWhat’s Interesting About This Concert\n\nTwo-time GRAMMY nominee Jennifer Frautschi makes her BSO debut\nMozart composed his brilliant first violin concerto when he was just 19 years old\nSchubert’s Symphony No. 5 was deeply influenced by Mozart\, with the composer writing famously\, “Immortal Mozart! What countless impressions of a brighter\, better life hast thou stamped upon our souls!”\n\nThe Program\n\nMarianna Martines | Overture (“Sinfonia”) in C Major\nWolfgang Amadeus Mozart | Mozart‘s Violin Concerto No. 1 in B♭ major\, Jennifer Frautschi\, violin\nFranz Schubert | Symphony No. 5 in B♭ major\n\nTickets\n\nIndividual concert passes for $10 per household will be available starting May 14th at watch.bangorsymphony.org
URL:https://lucasrichman.com/event/bangor-symphony-orchestra-7/
LOCATION:ME
CATEGORIES:Conductor
ATTACH;FMTTYPE=image/jpeg:https://lucasrichman.com/wp-content/uploads/2021/05/Show-Rotator-v26-1024x406-1.jpg
END:VEVENT
END:VCALENDAR