BEGIN:VCALENDAR
VERSION:2.0
PRODID:-//Lucas Richman - ECPv6.0.2//NONSGML v1.0//EN
CALSCALE:GREGORIAN
METHOD:PUBLISH
X-ORIGINAL-URL:https://lucasrichman.com
X-WR-CALDESC:Events for Lucas Richman
REFRESH-INTERVAL;VALUE=DURATION:PT1H
X-Robots-Tag:noindex
X-PUBLISHED-TTL:PT1H
BEGIN:VTIMEZONE
TZID:America/New_York
BEGIN:DAYLIGHT
TZOFFSETFROM:-0500
TZOFFSETTO:-0400
TZNAME:EDT
DTSTART:20210314T070000
END:DAYLIGHT
BEGIN:STANDARD
TZOFFSETFROM:-0400
TZOFFSETTO:-0500
TZNAME:EST
DTSTART:20211107T060000
END:STANDARD
END:VTIMEZONE
BEGIN:VEVENT
DTSTART;TZID=America/New_York:20210423T190000
DTEND;TZID=America/New_York:20210423T190000
DTSTAMP:20260423T181504
CREATED:20210508T211324Z
LAST-MODIFIED:20210508T213210Z
UID:6586-1619204400-1619204400@lucasrichman.com
SUMMARY:Bangor Symphony Orchestra
DESCRIPTION:Digital Masterworks III\nLyrical Wonders\n\n\nApril 23\, 2021 at 7pm\nAvailable Online For 30 Days \n\nLucas Richman\, conductor\nJamilyn Manning-White\, soprano\nKate Maroney\, mezzo-soprano\nDominic Armstrong\, tenor\nCelebrate the power of the human voice in this intimate performance of selections the worlds of opera\, oratorio and art song \nWhat’s Interesting About This Concert\n\nCombinations of instrument and voice not heard on the BSO stage before will be the focus of the program\nSoprano Jamilyn Manning-White returns after her memorable 2016 appearance in La Boheme\n\nThe Program\n\nBach | Arioso from Cantata 156 (Sinfonia)\nRachmaninoff | Vocalise\nBach | Erbarme Dich (from St. Matthew Passion)\nBizet | “Enfin c’est toi!” (from Carmen)\nBlake | Shakespeare Songs\nDelibes | Duo des fleurs (from Lakmé)\nVerdi | “Parigi\, o cara” (from La Traviata)\nMascagni | Intermezzo (from Cavalleria Rusticana)\nMozart | “Susanna\, or via sortite!” (from Le Nozze di Figaro)\nStrauss | “To Part Is Such Sweet Sorrow” (from Die Fledermaus)\n\nTickets\n\nIndividual concert passes for $10 per household will be available starting April 23rd at watch.bangorsymphony.org
URL:https://lucasrichman.com/event/bangor-symphony-orchestra-8/
LOCATION:ME
CATEGORIES:Conductor
ATTACH;FMTTYPE=image/jpeg:https://lucasrichman.com/wp-content/uploads/2021/05/Show-Rotator-v25-02.jpg
END:VEVENT
END:VCALENDAR