BEGIN:VCALENDAR
VERSION:2.0
PRODID:-//Lucas Richman - ECPv6.0.2//NONSGML v1.0//EN
CALSCALE:GREGORIAN
METHOD:PUBLISH
X-ORIGINAL-URL:https://lucasrichman.com
X-WR-CALDESC:Events for Lucas Richman
REFRESH-INTERVAL;VALUE=DURATION:PT1H
X-Robots-Tag:noindex
X-PUBLISHED-TTL:PT1H
BEGIN:VTIMEZONE
TZID:America/New_York
BEGIN:DAYLIGHT
TZOFFSETFROM:-0500
TZOFFSETTO:-0400
TZNAME:EDT
DTSTART:20200308T070000
END:DAYLIGHT
BEGIN:STANDARD
TZOFFSETFROM:-0400
TZOFFSETTO:-0500
TZNAME:EST
DTSTART:20201101T060000
END:STANDARD
END:VTIMEZONE
BEGIN:VEVENT
DTSTART;TZID=America/New_York:20201017T193000
DTEND;TZID=America/New_York:20201017T193000
DTSTAMP:20260424T032112
CREATED:20210509T162932Z
LAST-MODIFIED:20210509T163059Z
UID:6656-1602963000-1602963000@lucasrichman.com
SUMMARY:Scenes of Youth
DESCRIPTION:Portland Symphony Orchestra\n_\nNoel Paul Stookey\, soloist\nLucas Richman\, conductor \n  \nOctober 17\, 2020 \n 
URL:https://lucasrichman.com/event/scenes-of-youth/
LOCATION:ME
CATEGORIES:Composer,Conductor
ATTACH;FMTTYPE=image/png:https://lucasrichman.com/wp-content/uploads/2021/05/Scenes-of-Youth.png
END:VEVENT
END:VCALENDAR