BEGIN:VCALENDAR
VERSION:2.0
PRODID:-//Lucas Richman - ECPv6.0.2//NONSGML v1.0//EN
CALSCALE:GREGORIAN
METHOD:PUBLISH
X-ORIGINAL-URL:https://lucasrichman.com
X-WR-CALDESC:Events for Lucas Richman
REFRESH-INTERVAL;VALUE=DURATION:PT1H
X-Robots-Tag:noindex
X-PUBLISHED-TTL:PT1H
BEGIN:VTIMEZONE
TZID:America/New_York
BEGIN:DAYLIGHT
TZOFFSETFROM:-0500
TZOFFSETTO:-0400
TZNAME:EDT
DTSTART:20200308T070000
END:DAYLIGHT
BEGIN:STANDARD
TZOFFSETFROM:-0400
TZOFFSETTO:-0500
TZNAME:EST
DTSTART:20201101T060000
END:STANDARD
END:VTIMEZONE
BEGIN:VEVENT
DTSTART;TZID=America/New_York:20200627T190000
DTEND;TZID=America/New_York:20200627T190000
DTSTAMP:20260424T092830
CREATED:20200108T180520Z
LAST-MODIFIED:20200415T174054Z
UID:1941-1593284400-1593284400@lucasrichman.com
SUMMARY:Bangor Symphony Orchestra - CANCELED
DESCRIPTION:Kingfield Pops!\nLucas Richman\, Conductor \nThe Kingfield POPS will host its 18th annual summer concert on June 27th\, 2020.  Save the date and make a plan to gather family and friends together with a special holiday gift. Namely\, a grand scale evening of amazing and spirited musical talent\, stunning panoramic mountain views\, and joyful celebration. Topped off with a spectacular\, over the top fireworks display.
URL:https://lucasrichman.com/event/bangor-symphony-orchestra-5/
LOCATION:The Kennedy Farm\, Route 142\, Kingfield\, ME\, United States
CATEGORIES:Conductor
END:VEVENT
END:VCALENDAR