BEGIN:VCALENDAR
VERSION:2.0
PRODID:-//Lucas Richman - ECPv6.0.2//NONSGML v1.0//EN
CALSCALE:GREGORIAN
METHOD:PUBLISH
X-ORIGINAL-URL:https://lucasrichman.com
X-WR-CALDESC:Events for Lucas Richman
REFRESH-INTERVAL;VALUE=DURATION:PT1H
X-Robots-Tag:noindex
X-PUBLISHED-TTL:PT1H
BEGIN:VTIMEZONE
TZID:America/New_York
BEGIN:DAYLIGHT
TZOFFSETFROM:-0500
TZOFFSETTO:-0400
TZNAME:EDT
DTSTART:20200308T070000
END:DAYLIGHT
BEGIN:STANDARD
TZOFFSETFROM:-0400
TZOFFSETTO:-0500
TZNAME:EST
DTSTART:20201101T060000
END:STANDARD
END:VTIMEZONE
BEGIN:VEVENT
DTSTART;TZID=America/New_York:20200503T150000
DTEND;TZID=America/New_York:20200503T170000
DTSTAMP:20260424T111410
CREATED:20191225T223032Z
LAST-MODIFIED:20200415T174154Z
UID:1713-1588518000-1588525200@lucasrichman.com
SUMMARY:Bangor Symphony Orchestra - Masterworks VI - CANCELED
DESCRIPTION:~\nMozart & Mahler\n\n\nMay 3\, 2020 at 3pm\nCollins Center for the Arts \n\nLucas Richman\, conductor\nThe Masterworks season concludes with Mahler’s passion-filled Symphony No. 5\, and a rarely performed gem by Mozart. \nThe Program\n\nW.A. Mozart | Masonic Funeral Music\, K.477          \nGustav Mahler | Symphony No. 5
URL:https://lucasrichman.com/event/bangor-symphony-orchestra-masterworks-vi-2/
LOCATION:ME
CATEGORIES:Conductor
END:VEVENT
BEGIN:VEVENT
DTSTART;TZID=America/New_York:20200518T100000
DTEND;TZID=America/New_York:20200518T100000
DTSTAMP:20260424T111410
CREATED:20191225T223437Z
LAST-MODIFIED:20200123T192842Z
UID:1715-1589796000-1589796000@lucasrichman.com
SUMMARY:Bangor Symphony Orchestra
DESCRIPTION:~\nYOUNG PEOPLE’S CONCERT\nLucas Richman\, conductor \nThe Bangor Symphony Orchestra invites students in grades three through eight to attend this year’s annual youth concerts at the Collins Center for the Arts. \nThe hour-long education and music program is supplemented with an instructional packet for students and teachers providing information about the orchestra and the selections that will be featured. Concerts are open to public\, private\, and homeschooled children.
URL:https://lucasrichman.com/event/bangor-symphony-orchestra-3/2020-05-18/
LOCATION:ME
CATEGORIES:Conductor
END:VEVENT
BEGIN:VEVENT
DTSTART;TZID=America/New_York:20200530T193000
DTEND;TZID=America/New_York:20200530T193000
DTSTAMP:20260424T111410
CREATED:20191215T182934Z
LAST-MODIFIED:20200415T174110Z
UID:1036-1590867000-1590867000@lucasrichman.com
SUMMARY:Bangor Symphony Orchestra - CANCELED
DESCRIPTION:~\nThe Music of the Knights\n\n\nMay 30\, 2020 at 7:30pm\nCollins Center for the Arts \n\n\nLucas Richman\, conductor\nLorinda Lisitza\, vocalist\nKelli Rabke\, vocalist\nScott Coulter\, vocalist\nJohn Boswell\, piano\nA cast of Broadway and cabaret stars backed by your Bangor Symphony Orchestra take you on an unforgettable musical journey through the hits of Elton John\, Paul McCartney and Andrew Lloyd Webber with Music of the Knights® – don’t miss it! \nAbout the Concert\nSir Elton John\, Sir Paul McCartney and Sir Andrew Lloyd Webber are not only knights — they also happen to be three of the most successful songwriters of all time with careers that span decades. Music of the Knights® honors their lasting musical influence with songs like “Memory\,” “I Don’t Know How to Love Him\,” “Don’t Cry for Me\, Argentina\,” “The Phantom of the Opera\,” “Circle of Life\,” “Can You Feel the Love Tonight\,” “Your Song\,” “Don’t Let the Sun Go Down on Me\,” “Yesterday\,” “Hey Jude” and many more! \nTickets\nSingle tickets are on sale now! Order online or call the box office at 1-800-622-TIXX. \nThe Cast\n\n\n\nKelli Rabke\nScott Coulter\n\n\nJohn Boswell\nLorinda Lisitza
URL:https://lucasrichman.com/event/1036/
LOCATION:ME
CATEGORIES:Conductor
END:VEVENT
END:VCALENDAR