BEGIN:VCALENDAR
VERSION:2.0
PRODID:-//Lucas Richman - ECPv6.0.2//NONSGML v1.0//EN
CALSCALE:GREGORIAN
METHOD:PUBLISH
X-ORIGINAL-URL:https://lucasrichman.com
X-WR-CALDESC:Events for Lucas Richman
REFRESH-INTERVAL;VALUE=DURATION:PT1H
X-Robots-Tag:noindex
X-PUBLISHED-TTL:PT1H
BEGIN:VTIMEZONE
TZID:America/New_York
BEGIN:DAYLIGHT
TZOFFSETFROM:-0500
TZOFFSETTO:-0400
TZNAME:EDT
DTSTART:20200308T070000
END:DAYLIGHT
BEGIN:STANDARD
TZOFFSETFROM:-0400
TZOFFSETTO:-0500
TZNAME:EST
DTSTART:20201101T060000
END:STANDARD
END:VTIMEZONE
BEGIN:VEVENT
DTSTART;TZID=America/New_York:20200126T150000
DTEND;TZID=America/New_York:20200126T170000
DTSTAMP:20260424T185627
CREATED:20191215T180222Z
LAST-MODIFIED:20200123T162608Z
UID:1030-1580050800-1580058000@lucasrichman.com
SUMMARY:Bangor Symphony Orchestra - Masterworks III
DESCRIPTION:~ \nDvorak & Stravinsky\n\n\nJanuary 26\, 2020 at 3pm\nCollins Center for the Arts \n\nLucas Richman\, conductor & piano\nThe BSO woodwinds and brass take center stage in this program of intimate and diverse masterworks. \nWhat’s Interesting About This Concert\n\nConductor Lucas Richman makes his BSO debut as a piano soloist\nHear music that spans over 300 years\, from 1615 to 1920\nExperience the full range of wind and brass playing in hidden gems by Dvořák and Stravinsky\n\nThe Program\n\nPaul Dukas | Fanfare from La Peri\nFrancis Poulenc | Sextet\, Lucas Richman\, piano\nGiovanni Gabrielli | Canzone for Brass Choir\nIgor Stravinsky | Symphonies of Wind Instruments\nAntonín Dvořák | Serenade for Wind Instruments
URL:https://lucasrichman.com/event/bangor-symphony-orchestra-masterworks-iii-2/
LOCATION:ME
CATEGORIES:Conductor
END:VEVENT
END:VCALENDAR