BEGIN:VCALENDAR
VERSION:2.0
PRODID:-//Lucas Richman - ECPv6.0.2//NONSGML v1.0//EN
CALSCALE:GREGORIAN
METHOD:PUBLISH
X-WR-CALNAME:Lucas Richman
X-ORIGINAL-URL:https://lucasrichman.com
X-WR-CALDESC:Events for Lucas Richman
REFRESH-INTERVAL;VALUE=DURATION:PT1H
X-Robots-Tag:noindex
X-PUBLISHED-TTL:PT1H
BEGIN:VTIMEZONE
TZID:America/New_York
BEGIN:DAYLIGHT
TZOFFSETFROM:-0500
TZOFFSETTO:-0400
TZNAME:EDT
DTSTART:20190310T070000
END:DAYLIGHT
BEGIN:STANDARD
TZOFFSETFROM:-0400
TZOFFSETTO:-0500
TZNAME:EST
DTSTART:20191103T060000
END:STANDARD
END:VTIMEZONE
BEGIN:VEVENT
DTSTART;TZID=America/New_York:20191126T190000
DTEND;TZID=America/New_York:20191126T210000
DTSTAMP:20260424T204634
CREATED:20191105T172057Z
LAST-MODIFIED:20200123T205717Z
UID:739-1574794800-1574802000@lucasrichman.com
SUMMARY:Oslo Philharmonic
DESCRIPTION:STAR WARS\nLucas Richman\, conductor \nA celebration of the most famous soundtrack in film history. \n\nWe celebrate the most famous soundtrack in the history of film as John Williams’ epic accompaniment to the Star Wars films is performed in Oslo Concert Hall\, live and with full symphony orchestra. The American conductor Lucas Richman\, who is an authority on film music and works closely with John Williams\, will guide us on the journey through the atmosphere\, where we meet Darth Vader\, Luke Skywalker\, Princess Leia and other characters from the iconic films. And we suspect that the presence of the Empire will make itself known in more than just a musical sense … May the Force be with you! \nJohn Williams (b. 1932) is responsible for creating some of the most evocative and moving but also symphonically grandiose film music out there. He has drawn his inspiration from Late Romantic symphonies\, early modern music and works such as Holst’s The Planets\, but most of all from his own fantasy\, creativity and superb powers of orchestration. The icing on the cake is the award-winning and unmistakeable musical universe he created from 1977 onwards to accompany George Lucas’ series of films\, Star Wars. \nIn Star Wars\, the battle between good and evil is played out in outer space\, in a galaxy “far far away”. Accompanied by his mentor\, the Jedi knight Obi-Wan Kenobi\, the hero\, Luke Skywalker spearheads an alliance which battles to save himself\, the galaxy and the beautiful Princess Leia from the evil Darth Vader and his dark empire which is based on the space station the Death Star. \nAside from the explosive main theme\, and intensely dramatic star wars music\, the overwhelmingly massive Imperial March\, accompanied by Darth Vader’s chilling breathing is a favorite of many. Others have fallen in love with the lyrical themes which follow Princess Leia or her teacher Yoda\, and in the many memorable moments throughout the series. \nTonight\, Richman and the Oslo Philharmonic demonstrate the whole spectrum of Williams’ unique cinematic universe. Welcome to an otherworldly musical experience!
URL:https://lucasrichman.com/event/oslo-philharmonic/
LOCATION:ME
CATEGORIES:Conductor
ATTACH;FMTTYPE=image/jpeg:https://lucasrichman.com/wp-content/uploads/2019/11/R2D2.jpg
END:VEVENT
BEGIN:VEVENT
DTSTART;TZID=America/New_York:20191127T190000
DTEND;TZID=America/New_York:20191127T190000
DTSTAMP:20260424T204634
CREATED:20191105T172224Z
LAST-MODIFIED:20200123T194308Z
UID:745-1574881200-1574881200@lucasrichman.com
SUMMARY:Oslo Philharmonic
DESCRIPTION:STAR WARS\nLucas Richman\, conductor \nA celebration of the most famous soundtrack in film history. \n\nWe celebrate the most famous soundtrack in the history of film as John Williams’ epic accompaniment to the Star Wars films is performed in Oslo Concert Hall\, live and with full symphony orchestra. The American conductor Lucas Richman\, who is an authority on film music and works closely with John Williams\, will guide us on the journey through the atmosphere\, where we meet Darth Vader\, Luke Skywalker\, Princess Leia and other characters from the iconic films. And we suspect that the presence of the Empire will make itself known in more than just a musical sense … May the Force be with you! \nJohn Williams (b. 1932) is responsible for creating some of the most evocative and moving but also symphonically grandiose film music out there. He has drawn his inspiration from Late Romantic symphonies\, early modern music and works such as Holst’s The Planets\, but most of all from his own fantasy\, creativity and superb powers of orchestration. The icing on the cake is the award-winning and unmistakeable musical universe he created from 1977 onwards to accompany George Lucas’ series of films\, Star Wars. \nIn Star Wars\, the battle between good and evil is played out in outer space\, in a galaxy “far far away”. Accompanied by his mentor\, the Jedi knight Obi-Wan Kenobi\, the hero\, Luke Skywalker spearheads an alliance which battles to save himself\, the galaxy and the beautiful Princess Leia from the evil Darth Vader and his dark empire which is based on the space station the Death Star. \nAside from the explosive main theme\, and intensely dramatic star wars music\, the overwhelmingly massive Imperial March\, accompanied by Darth Vader’s chilling breathing is a favorite of many. Others have fallen in love with the lyrical themes which follow Princess Leia or her teacher Yoda\, and in the many memorable moments throughout the series. \nTonight\, Richman and the Oslo Philharmonic demonstrate the whole spectrum of Williams’ unique cinematic universe. Welcome to an otherworldly musical experience!
URL:https://lucasrichman.com/event/oslo-philharmonic-2/
LOCATION:ME
CATEGORIES:Conductor
ATTACH;FMTTYPE=image/jpeg:https://lucasrichman.com/wp-content/uploads/2019/11/R2D2.jpg
END:VEVENT
END:VCALENDAR