BEGIN:VCALENDAR
VERSION:2.0
PRODID:-//Lucas Richman - ECPv6.0.2//NONSGML v1.0//EN
CALSCALE:GREGORIAN
METHOD:PUBLISH
X-WR-CALNAME:Lucas Richman
X-ORIGINAL-URL:https://lucasrichman.com
X-WR-CALDESC:Events for Lucas Richman
REFRESH-INTERVAL;VALUE=DURATION:PT1H
X-Robots-Tag:noindex
X-PUBLISHED-TTL:PT1H
BEGIN:VTIMEZONE
TZID:America/New_York
BEGIN:DAYLIGHT
TZOFFSETFROM:-0500
TZOFFSETTO:-0400
TZNAME:EDT
DTSTART:20190310T070000
END:DAYLIGHT
BEGIN:STANDARD
TZOFFSETFROM:-0400
TZOFFSETTO:-0500
TZNAME:EST
DTSTART:20191103T060000
END:STANDARD
END:VTIMEZONE
BEGIN:VEVENT
DTSTART;TZID=America/New_York:20190620T193000
DTEND;TZID=America/New_York:20190620T213000
DTSTAMP:20260425T065336
CREATED:20190409T144014Z
LAST-MODIFIED:20190409T151412Z
UID:482-1561059000-1561066200@lucasrichman.com
SUMMARY:Nashville Symphony Orchestra -- Brian Wilson Presents Pet Sounds
DESCRIPTION:After last season’s unfortunate cancellation\, we’re thrilled to re-engage Brian Wilson with your Nashville Symphony. He’ll be joined by his Beach Boys bandmates Al Jardine and Blondie Chaplin to pay tribute to one of the greatest albums ever made: Pet Sounds. Enjoy classic hits and more in what promises to be an unforgettable night with your Nashville Symphony. \nPerformers\nBrian Wilson\nAl Jardine\nBlondie Chaplin\nNashville Symphony\nLucas Richman\, Conductor \nWouldn’t It Be Nice |  Sloop John B  |  God Only Knows  |  Good Vibrations
URL:https://lucasrichman.com/event/nashville-symphony-orchestra-brian-wilson-presents-pet-sounds/
LOCATION:Nashville Symphony Orchestra\, One Symphony Place\, Nashville\, TN\, United States
CATEGORIES:Conductor
ATTACH;FMTTYPE=image/jpeg:https://lucasrichman.com/wp-content/uploads/2019/04/brianwilson_1440x680.jpg
END:VEVENT
BEGIN:VEVENT
DTSTART;TZID=America/New_York:20190621T200000
DTEND;TZID=America/New_York:20190621T220000
DTSTAMP:20260425T065336
CREATED:20190409T144225Z
LAST-MODIFIED:20190409T151423Z
UID:486-1561147200-1561154400@lucasrichman.com
SUMMARY:Nashville Symphony Orchestra -- Brian Wilson Presents Pet Sounds
DESCRIPTION:After last season’s unfortunate cancellation\, we’re thrilled to re-engage Brian Wilson with your Nashville Symphony. He’ll be joined by his Beach Boys bandmates Al Jardine and Blondie Chaplin to pay tribute to one of the greatest albums ever made: Pet Sounds. Enjoy classic hits and more in what promises to be an unforgettable night with your Nashville Symphony. \nPerformers\nBrian Wilson\nAl Jardine\nBlondie Chaplin\nNashville Symphony\nLucas Richman\, Conductor \nWouldn’t It Be Nice |  Sloop John B  |  God Only Knows  |  Good Vibrations
URL:https://lucasrichman.com/event/nashville-symphony-orchestra-brian-wilson-presents-pet-sounds-2/
LOCATION:Nashville Symphony Orchestra\, One Symphony Place\, Nashville\, TN\, United States
CATEGORIES:Conductor
ATTACH;FMTTYPE=image/jpeg:https://lucasrichman.com/wp-content/uploads/2019/04/brianwilson_1440x680.jpg
END:VEVENT
BEGIN:VEVENT
DTSTART;TZID=America/New_York:20190629T163000
DTEND;TZID=America/New_York:20190629T220000
DTSTAMP:20260425T065336
CREATED:20190409T145131Z
LAST-MODIFIED:20200123T200650Z
UID:489-1561825800-1561845600@lucasrichman.com
SUMMARY:Bangor Symphony Orchestra -- 17th Annual Kingfield POPS Concert
DESCRIPTION:Kingfield POPS 2019 Line Up\nBangor Symphony Orchestra featuring:\nThe Kruger Brothers\nGoldenOak\nIdentity Crisis\nToscano Music Company
URL:https://lucasrichman.com/event/bangor-symphony-orchestra-17th-annual-kingfield-pops-concert/
LOCATION:The Kennedy Farm\, Route 142\, Kingfield\, ME\, United States
CATEGORIES:Conductor
ATTACH;FMTTYPE=image/jpeg:https://lucasrichman.com/wp-content/uploads/2019/04/11203579_989441297757495_7671404006602505411_o.jpg
END:VEVENT
END:VCALENDAR